BEGIN:VCALENDAR
VERSION:2.0
PRODID:-//De Westfriese Tafel - ECPv6.1.3//NONSGML v1.0//EN
CALSCALE:GREGORIAN
METHOD:PUBLISH
X-ORIGINAL-URL:https://westfriesetafel.nl/westfriese-tafel
X-WR-CALDESC:Evenementen voor De Westfriese Tafel
REFRESH-INTERVAL;VALUE=DURATION:PT1H
X-Robots-Tag:noindex
X-PUBLISHED-TTL:PT1H
BEGIN:VTIMEZONE
TZID:Europe/Amsterdam
BEGIN:DAYLIGHT
TZOFFSETFROM:+0100
TZOFFSETTO:+0200
TZNAME:CEST
DTSTART:20190331T010000
END:DAYLIGHT
BEGIN:STANDARD
TZOFFSETFROM:+0200
TZOFFSETTO:+0100
TZNAME:CET
DTSTART:20191027T010000
END:STANDARD
END:VTIMEZONE
BEGIN:VEVENT
DTSTART;VALUE=DATE:20190621
DTEND;VALUE=DATE:20190623
DTSTAMP:20260424T014140
CREATED:20190420T093800Z
LAST-MODIFIED:20190420T094858Z
UID:672-1561075200-1561247999@westfriesetafel.nl
SUMMARY:Opperdoezer Ronde Oogstfeest
DESCRIPTION:Stichting Dorpskerk Opperdoes organiseert het Opperdoezer Ronde Oogstfeest. Op vrijdag 21 en zaterdag 22 juni 2019 komt De Westfriese Tafel naar de Gouw.  Met het oogstfeest wil de stichting Opperdoezers en de rest van Westfriesland laten zien dat ze trots mogen zijn op hun streekproducten en op de beroemde Opperdoezer ronde in het bijzonder. De opbrengsten die overblijven komen ten goede aan de monumentale Dorpskerk van Opperdoes.
URL:https://westfriesetafel.nl/westfriese-tafel/evenement/opperdoezer-ronde-oogstfeest/
LOCATION:Dorpskerk Opperdoes\, Gouw\, Opperdoes
ATTACH;FMTTYPE=image/jpeg:https://westfriesetafel.nl/wp-content/uploads/2019/04/d717111_w1134_logooogstfeestjpg1.jpg
END:VEVENT
END:VCALENDAR