BEGIN:VCALENDAR
VERSION:2.0
PRODID:-//De Westfriese Tafel - ECPv6.1.3//NONSGML v1.0//EN
CALSCALE:GREGORIAN
METHOD:PUBLISH
X-WR-CALNAME:De Westfriese Tafel
X-ORIGINAL-URL:https://westfriesetafel.nl/westfriese-tafel
X-WR-CALDESC:Evenementen voor De Westfriese Tafel
REFRESH-INTERVAL;VALUE=DURATION:PT1H
X-Robots-Tag:noindex
X-PUBLISHED-TTL:PT1H
BEGIN:VTIMEZONE
TZID:Europe/Amsterdam
BEGIN:DAYLIGHT
TZOFFSETFROM:+0100
TZOFFSETTO:+0200
TZNAME:CEST
DTSTART:20190331T010000
END:DAYLIGHT
BEGIN:STANDARD
TZOFFSETFROM:+0200
TZOFFSETTO:+0100
TZNAME:CET
DTSTART:20191027T010000
END:STANDARD
END:VTIMEZONE
BEGIN:VEVENT
DTSTART;TZID=Europe/Amsterdam:20190907T110000
DTEND;TZID=Europe/Amsterdam:20190907T170000
DTSTAMP:20260423T215419
CREATED:20190903T115617Z
LAST-MODIFIED:20190903T115722Z
UID:701-1567854000-1567875600@westfriesetafel.nl
SUMMARY:Boerenversmarkt op 7 en 8 september
DESCRIPTION:De zesde editie van de Boerenversmarkt wordt zaterdag 7 en zondag 8 september 2019 gehouden bij Biesheuvel Knoflook\, Westerterpweg 35 in Slootdorp. \nDit is een overdekte markt waar mensen kunnen voelen\, proeven\, ruiken en dus ervaren wat er in deze regio allemaal verkrijgbaar is. \nNaast de markt is er van alles te beleven.Zo is er een springkussen\, animatie en een kinderboerderij voor de kleintjes\, een kookpodium en optredens van gezellige koren voor de bezoekers. \nDe markt is gratis toegankelijk en is beide dagen geopend van 11.00-17.00 uur. Meer informatie over de markt en haar deelnemers is te vinden op www.boerenversmarkt.com. \nDe Westfriese Tafel staat mede dankzij Gemeente Hollands Kroon op deze markt.
URL:https://westfriesetafel.nl/westfriese-tafel/evenement/boerenversmarkt-op-7-en-8-september/
CATEGORIES:Evenementen
ATTACH;FMTTYPE=image/jpeg:https://westfriesetafel.nl/wp-content/uploads/2019/09/Boerenversmarkt-2.jpg
END:VEVENT
END:VCALENDAR